BEGIN:VCALENDAR
VERSION:2.0
PRODID:-//wp-events-plugin.com//6.6.4.4//EN
BEGIN:VEVENT
UID:53@freifuehlsein.com
DTSTART;TZID=Europe/Berlin:20241112T183000
DTEND;TZID=Europe/Berlin:20241112T203000
DTSTAMP:20241104T081356Z
URL:https://freifuehlsein.com/veranstaltungen/genusssalon-%e2%99%a1-solo-l
 ove/
SUMMARY:GenussSalon ♡ Solo Love oder die Kunst der Selbstverzückung
DESCRIPTION:Solo Love ♡ oder die Kunst der Selbstverzückung\n\n&gt\;&gt\
 ;&gt\; für Frauen / weiblich gelesene Menschen\n\nDie Sexualität an erst
 er Stelle als eigene Lebenskraft begriffen und gelebt\, erlaubt oft einen 
 neuen Bezug dazu.\nWas wenn wir ganz von vorn anfangen und uns bewusst mac
 hen\, dass Sexualität eine Energie im Körper ist\, welche uns immer zur 
 Verfügung steht und unser Leben mitgestaltet und wir dies - bewusst gemac
 ht - nutzen können?\nIn der Gesellschaft wird Sexualität oft als 'etwas 
 mit Partnerperson Gelebtes gelesen'\, Solo Love unterliegt immer noch Scha
 mthemen\, es wird nicht darüber gesprochen\, obwohl laut aktuellen Studie
 n 79 % der Frauen masturbieren. (86% der Männer) Lasst uns das gemeinsam 
 ändern!\nDieser Abend lädt dazu ein\, dass nochmal neu zu denken und zun
 ächst mit der eigenen Selbstwirksamkeit &amp\; Selbstliebe zu beginnen\, 
 wie kann ich mich gut selbst nähren\, für mich sorgen ohne abhängig zu 
 anderen Personen zu sein?\nWas brauche ich eigentlich dafür?\nWas tut mir
  gut?\nWas wünsche ich mir?\nWie integriere ich meine Bedürfnisse in mei
 nen (eh schon vollen) Alltag?\n\nKonkret?\n+ Vorstellung des Selbstliebe (
 Orgasmic Yoga) Mentoring aus dem Sexological Bodywork\n+ theoretische Impu
 lse zu Setting\, Intention\, Atem\, Bewegung\, Stimme\n+ Vorstellung von O
 rgasmic Yoga Mediationen aus dem Sexological Bodywork\n+ allgemeine somati
 sche Übungen zum Ankommen und zum Entspannung\n\nWie immer ist deine Selb
 stverantwortlichkeit herzlich eingeladen\, ebenso wie deine individuellen 
 Grenzen\, ein Auslassen oder ein Stopp.\n♡ es findet keine Nacktheit\, g
 enitale Berührung\, Erregungs- oder Paarübung statt\n\nMitbringliste:\nx
  warme Socken &amp\; Wohlfühlkleidung\nx Wasserflasche\nx wenn du magst\,
  deine eigene Matte\, Kissen\, Decke (ist auch alles vorhanden)\nx Wohlfü
 hldinge\, welche dich in deiner Sicherheit &amp\;  Genuss unterstützen\n
 x Eintritt in bar\n\nEinlass: 18.15 Uhr\nBeginn: 18.30 - 20.30 Uhr\nEintri
 tt: 25 € Eintritt\n\nZur Anmeldung
CATEGORIES:Workshops
LOCATION:Freifühlsein in Chemnitz\, Chemnitztalstr. 238\, Chemnitz\, 09114
 \, Deutschland
X-APPLE-STRUCTURED-LOCATION;VALUE=URI;X-ADDRESS=Chemnitztalstr. 238\, Chemn
 itz\, 09114\, Deutschland;X-APPLE-RADIUS=100;X-TITLE=Freifühlsein in Chem
 nitz:geo:0,0
END:VEVENT
BEGIN:VTIMEZONE
TZID:Europe/Berlin
X-LIC-LOCATION:Europe/Berlin
BEGIN:STANDARD
DTSTART:20241027T020000
TZOFFSETFROM:+0200
TZOFFSETTO:+0100
TZNAME:CET
END:STANDARD
END:VTIMEZONE
END:VCALENDAR