BEGIN:VCALENDAR
VERSION:2.0
PRODID:-//wp-events-plugin.com//6.6.4.4//EN
BEGIN:VEVENT
UID:4@freifuehlsein.com
DTSTART;TZID=Europe/Berlin:20231121T183000
DTEND;TZID=Europe/Berlin:20231121T203000
DTSTAMP:20231110T100024Z
URL:https://freifuehlsein.com/veranstaltungen/genusssalon-%e2%99%a1/
SUMMARY:GenussSalon ♡ Sinnliches FreifühlYoga ♡ für jedermensch
DESCRIPTION:GenussSalon - Sinnliches FreifühlYoga - für jedermensch ♡\n
 \nEine herzliche Einladung an dich zur sinnlichen Verkörperung (Embodimen
 t) deines Ist-Zustandes an diesem Abend.\nBring mit was du gerade hast... 
 Neugier\, Müdigkeit\, Widerstand und lass es dich sinnlich bewegen\, genu
 ssvoll\, auf deiner Matte\, in deinem Tempo und deiner Frequenz.\n\n++++++
 \nfür alle Menschen\, die an einem der Novemberspecial Workshops teilnehm
 en ist dieses Angebot zum halben Preis nutzbar - als Embodiment Ergänzung
 ! ♡\n++++++\n\nMitzubringen: warme Socken\, Wasserflasche\n20 - 25 € E
 intritt je nach Einkommen\n\nZur Anmeldung
ATTACH;FMTTYPE=image/jpeg:https://freifuehlsein.com/wp-content/uploads/202
 3/10/genusssalon.jpeg
CATEGORIES:Workshops
LOCATION:Freifühlsein in Chemnitz\, Chemnitztalstr. 238\, Chemnitz\, 09114
 \, Deutschland
X-APPLE-STRUCTURED-LOCATION;VALUE=URI;X-ADDRESS=Chemnitztalstr. 238\, Chemn
 itz\, 09114\, Deutschland;X-APPLE-RADIUS=100;X-TITLE=Freifühlsein in Chem
 nitz:geo:0,0
END:VEVENT
BEGIN:VTIMEZONE
TZID:Europe/Berlin
X-LIC-LOCATION:Europe/Berlin
BEGIN:STANDARD
DTSTART:20231029T020000
TZOFFSETFROM:+0200
TZOFFSETTO:+0100
TZNAME:CET
END:STANDARD
END:VTIMEZONE
END:VCALENDAR