BEGIN:VCALENDAR
VERSION:2.0
PRODID:-//wp-events-plugin.com//6.6.4.4//EN
BEGIN:VEVENT
UID:153@freifuehlsein.com
DTSTART:20261126T160000Z
DTEND:20261126T183000Z
DTSTAMP:20260409T132449Z
URL:https://freifuehlsein.com/veranstaltungen/micro-workshop-%e2%99%a1-mit
 -thomas-kristin/
SUMMARY:Micro Workshop ♡
DESCRIPTION:\n\n\nMICRO Workshop ♡\nmit Kristin &amp\; Thomas\n\n\n* für
  alle Menschen\n\n\n\n\nInfos folgen**************** :)\n\n\nSchreib uns\,
  wenn du dabei sein magst.\nzur Anmeldung \n\n\nThomas &amp\; Kristin\n\n
 \n\n\n\n\n\n
ATTACH;FMTTYPE=image/jpeg:https://freifuehlsein.com/wp-content/uploads/202
 4/11/a-little-different_20250118_193617_0000.png
CATEGORIES:Workshops
LOCATION:Freifühlsein in Chemnitz\, Chemnitztalstr. 238\, Chemnitz\, 09114
 \, Deutschland
X-APPLE-STRUCTURED-LOCATION;VALUE=URI;X-ADDRESS=Chemnitztalstr. 238\, Chemn
 itz\, 09114\, Deutschland;X-APPLE-RADIUS=100;X-TITLE=Freifühlsein in Chem
 nitz:geo:0,0
END:VEVENT
END:VCALENDAR