BEGIN:VCALENDAR
VERSION:2.0
PRODID:-//wp-events-plugin.com//6.6.4.4//EN
BEGIN:VEVENT
UID:103@freifuehlsein.com
DTSTART:20250605T163000Z
DTEND:20250605T190000Z
DTSTAMP:20250118T200252Z
URL:https://freifuehlsein.com/veranstaltungen/miniworkshop-beziehungsliebe
 -%e2%99%a1-2/
SUMMARY:Beziehungsspiele - a little different ♡
DESCRIPTION:Beziehungsspiele - a little different ♡\n_offen für jedermen
 sch - alle Körper\, Gender und Neugierige\n\nWer kennt sie nicht - Bezieh
 ungsspiele - meist eher negatv besetzt in unserer Vorstellung oder auch Er
 fahrung.\nDie Spiele\, zu denen ich dich einlade\, möchten ein andere Rea
 lität anbieten.\nHier geht um Verbundenheit\, Authentizität und Präsenz
 . Tiefe Erlichkeit und Integrität in Beziehungen.\n\nUnd ganz gleich ob d
 u Lust hast auf Beziehung oder vielleicht Angst vor Beziehung oder dich ir
 gendwo in dem kunterbunten Dazwischen befindest\, ob Sololiebend\, Liebesg
 eflecht oder in Paarbeziehung wenn du Lust hast zu spielen\, neugierig bis
 t\, dann ist dieser Abend für dich!\nIch lade ein zu spielerischen Forsch
 en\, Begegnen\, Ausprobieren\, Lachen\, Atmen\, Staunen über dich und mit
  dir selbst und anderen Menschen.\n\nBegegnungs- und Meditationsübungen a
 us Sexological Bodywork\, Tao Yoga\, Urban Tantra\, somatischem Coaching u
 nd persönlich gelebtem Leben.\n\n✖ keine Nac_theit oder seggsuelle Ber
 ührung\n\nMitbringliste:\n+ deine Sinne\n+ eventuell was zum schreiben\, 
 um die Spielesammlung zu Hause zu erweitern\n+ Wohlfühlspielkleidung :)\n
 + Eintritt in bar\n\nich freu mich auf dich!\nvon Herzen\nKristin\n\nEinla
 ss ab 18.15 Uhr\nBeginn: 18.30 - 21.00 Uhr\nEintritt: 25 € pro Einzelper
 son / 45 € pro Paar &amp\; Paarkonstellation\n\nZur Anmeldung\n\nphotocr
 edit: geranimo-ADUiP4nJwds-unsplash + eigene Bearbeitung
ATTACH;FMTTYPE=image/jpeg:https://freifuehlsein.com/wp-content/uploads/202
 4/11/a-little-different_20250118_205243_0000.png
CATEGORIES:Workshops
LOCATION:Freifühlsein in Chemnitz\, Chemnitztalstr. 238\, Chemnitz\, 09114
 \, Deutschland
X-APPLE-STRUCTURED-LOCATION;VALUE=URI;X-ADDRESS=Chemnitztalstr. 238\, Chemn
 itz\, 09114\, Deutschland;X-APPLE-RADIUS=100;X-TITLE=Freifühlsein in Chem
 nitz:geo:0,0
END:VEVENT
END:VCALENDAR