BEGIN:VCALENDAR
VERSION:2.0
PRODID:-//wp-events-plugin.com//6.6.4.4//EN
BEGIN:VEVENT
UID:151@freifuehlsein.com
DTSTART:20261107T090000Z
DTEND:20261107T160000Z
DTSTAMP:20260409T132429Z
URL:https://freifuehlsein.com/veranstaltungen/mundraum-workshop/
SUMMARY:MUNDRAUM Workshop ♡
DESCRIPTION:MUNDRAUM Workshop\nmit Thomas Becher und Kristin Drotziger\n\nI
 nfos folgen :)
ATTACH;FMTTYPE=image/jpeg:https://freifuehlsein.com/wp-content/uploads/202
 6/04/mund-scaled-e1775156456943.jpg
CATEGORIES:Chemnitz,Workshops
LOCATION:Freifühlsein in Chemnitz\, Chemnitztalstr. 238\, Chemnitz\, 09114
 \, Deutschland
X-APPLE-STRUCTURED-LOCATION;VALUE=URI;X-ADDRESS=Chemnitztalstr. 238\, Chemn
 itz\, 09114\, Deutschland;X-APPLE-RADIUS=100;X-TITLE=Freifühlsein in Chem
 nitz:geo:0,0
END:VEVENT
END:VCALENDAR