BEGIN:VCALENDAR
VERSION:2.0
PRODID:-//wp-events-plugin.com//6.6.4.4//EN
BEGIN:VEVENT
UID:155@freifuehlsein.com
DTSTART:20261119T160000Z
DTEND:20261119T183000Z
DTSTAMP:20260423T082548Z
URL:https://freifuehlsein.com/veranstaltungen/weiberabend-%e2%99%a1-7/
SUMMARY:Weiberabend* ♡
DESCRIPTION:Einladung zum Weiberabend* ♡\n\n 	für Frauen\, weiblich gele
 sene Menschen\n\n\n\nKommt zusammen mit all euren verschiedenen Farben &am
 p\; Formen\, lasst uns gegenseitig zuhören\, wertschätzen\, vernetzen\, 
 nähren und lachen!\nCommunity gathering!\n\n\n\n\nAblauf:\n\n\n♡ Ankomm
 en &amp\; Begrüßung\nKurzrunde &amp\; Landen im Kreis\n\n\n\n♡ Gemeins
 ames EssenMitbringtafel – Fingerfood\, Brot\, Aufstriche\, Lieblingssnac
 ks. – *Kein Geschirr/ Besteck vorhanden*  - Einfach teilen\, genießen\
 , reden.\n♡ Impuls des AbendsEin kurzer Input von einer Frau aus dem Kre
 is\n♡ Austausch &amp\; GesprächOffener Raum für Fragen\, Resonanz\, Mi
 tteilen und Miteinander sein\n\n\nWenn du also Lust hast auf ein nährende
 s Miteinander hast\, dann komm dazu!\n\n\nWir freuen uns auf euch ♡\n\nZ
 ur Anmeldung\n\n★ auf Spendenbasis (Obulus für Raum\, Feuerholz &amp\; 
 Tee erwünscht)\n★ Bitte Fingerfood mitbringen! keine Möglichkeit etwas
  zu erwärmen und kein Geschirr vorhanden\n\n\n\ngraphic credit: Elsa Mari
 a Cardona Santos @elsa.ollin\n\n\n&nbsp\;
ATTACH;FMTTYPE=image/jpeg:https://freifuehlsein.com/wp-content/uploads/202
 5/11/3_20251213_205411_0001-e1765658976181.png
CATEGORIES:Community Gathering,Veranstaltung für Frauen / weiblich
 gelesene Menschen
LOCATION:Freifühlsein in Chemnitz\, Chemnitztalstr. 238\, Chemnitz\, 09114
 \, Deutschland
X-APPLE-STRUCTURED-LOCATION;VALUE=URI;X-ADDRESS=Chemnitztalstr. 238\, Chemn
 itz\, 09114\, Deutschland;X-APPLE-RADIUS=100;X-TITLE=Freifühlsein in Chem
 nitz:geo:0,0
END:VEVENT
END:VCALENDAR