BEGIN:VCALENDAR
VERSION:2.0
PRODID:-//wp-events-plugin.com//6.6.4.4//EN
BEGIN:VEVENT
UID:156@freifuehlsein.com
DTSTART:20260924T160000Z
DTEND:20260924T183000Z
DTSTAMP:20260423T084821Z
URL:https://freifuehlsein.com/veranstaltungen/weiberabend-%e2%99%a1-mit-an
 tje-schulz-puls-paar-sexualberatung/
SUMMARY:Weiberabend* ♡ mit Antje Schulz - PULS - Paar & Sexualberatung
DESCRIPTION:Einladung zum Weiberabend* ♡ mit Antje Schulz - Puls - Paar &
 amp\; Sexualberatung\n\n 	für Frauen\, weiblich gelesene Menschen\n\n\n\n
 Kommt zusammen mit all euren verschiedenen Farben &amp\; Formen\, lasst un
 s gegenseitig zuhören\, wertschätzen\, vernetzen\, nähren und lachen!\n
 Community gathering!\n\nWas wäre\, wenn sexuelle Bildung\, sexuelles Erle
 ben\, sexuelles Wachstum nicht irgendwann abgeschlossen wäre – sondern 
 ein lebendiger Prozess bleibt\, der sich mit uns weiterentwickelt?\n\nLass
 t uns gemeinsam einen Raum öffnen\, in dem sexuelle Bildung spürbar wird
 : jenseits von reiner Wissensvermittlung\, hinein in Erfahrung\, Wahrnehmu
 ng und innere Bewegung mit Neugier\, mit Tiefe\, mit einem Augenzwinkern 
 – und mit ganz viel Lust am Entdecken.\n\n&nbsp\;\nAls Sexualpädagogin 
 sowie Paar- und Sexualberaterin bringe ich Sexualität nicht als fertiges 
 Konzept mit\, sondern als Einladung: zum Spüren\, zum Lauschen\, zum Frag
 enstellen.\nEs geht mir nicht um die eine große Vision davon\, wie Sexual
 ität „sein sollte“. Sondern darum\, Räume zu öffnen für Bedürfnis
 bildung\, Körperbildung\, Lustbildung\, Grenzbildung\, Beziehungsbildung\
 , Identitätsbildung.\n\n\n\nAntje Schulz _ PULS Paar- &amp\; Sexualberatu
 ng\n\n\n\nAblauf:\n\n\n♡ Ankommen &amp\; Begrüßung\nKurzrunde &amp\; L
 anden im Kreis\n\n\n\n♡ Gemeinsames EssenMitbringtafel – Fingerfood\, 
 Brot\, Aufstriche\, Lieblingssnacks. – *Kein Geschirr vorhanden*  - Ein
 fach teilen\, genießen\, reden.\n♡ Impuls des AbendsEin kurzer Input vo
 n einer Frau aus dem Kreis – diesmal: Antje Schulz / Paar- und Sexualber
 atung\n♡ Austausch &amp\; GesprächOffener Raum für Fragen\, Resonanz\,
  Mitteilen und Miteinander sein\n\n\nWenn du Lust auf ein nährendes\, ins
 pirierendes Miteinander hast\, dann komm dazu!\n\n\nWir freuen uns auf euc
 h ♡\n\nAntje &amp\; Kristin\n\n\nZur Anmeldung\n\n\n★ auf Spendenbasis
  (Obulus für Raum\, Feuerholz &amp\; Tee erwünscht)\n★ Bitte Fingerfoo
 d mitbringen! keine Möglichkeit etwas zu erwärmen und kein Geschirr vorh
 anden\n\n\n&nbsp\;\n\ngraphic credit: Elsa Maria Cardona Santos @elsa.olli
 n\n\n&nbsp\;\n\n&nbsp\;
ATTACH;FMTTYPE=image/jpeg:https://freifuehlsein.com/wp-content/uploads/202
 5/11/3_20251213_205411_0001-e1765658976181.png
CATEGORIES:Community Gathering,Veranstaltung für Frauen / weiblich
 gelesene Menschen
LOCATION:Freifühlsein in Chemnitz\, Chemnitztalstr. 238\, Chemnitz\, 09114
 \, Deutschland
X-APPLE-STRUCTURED-LOCATION;VALUE=URI;X-ADDRESS=Chemnitztalstr. 238\, Chemn
 itz\, 09114\, Deutschland;X-APPLE-RADIUS=100;X-TITLE=Freifühlsein in Chem
 nitz:geo:0,0
END:VEVENT
END:VCALENDAR